BEGIN:VCALENDAR
VERSION:2.0
PRODID:-//Crimson Fox Publishing - ECPv6.15.18//NONSGML v1.0//EN
CALSCALE:GREGORIAN
METHOD:PUBLISH
X-ORIGINAL-URL:https://crimsonfoxpublishing.com
X-WR-CALDESC:Events for Crimson Fox Publishing
REFRESH-INTERVAL;VALUE=DURATION:PT1H
X-Robots-Tag:noindex
X-PUBLISHED-TTL:PT1H
BEGIN:VTIMEZONE
TZID:America/Los_Angeles
BEGIN:DAYLIGHT
TZOFFSETFROM:-0800
TZOFFSETTO:-0700
TZNAME:PDT
DTSTART:20250309T100000
END:DAYLIGHT
BEGIN:STANDARD
TZOFFSETFROM:-0700
TZOFFSETTO:-0800
TZNAME:PST
DTSTART:20251102T090000
END:STANDARD
BEGIN:DAYLIGHT
TZOFFSETFROM:-0800
TZOFFSETTO:-0700
TZNAME:PDT
DTSTART:20260308T100000
END:DAYLIGHT
BEGIN:STANDARD
TZOFFSETFROM:-0700
TZOFFSETTO:-0800
TZNAME:PST
DTSTART:20261101T090000
END:STANDARD
BEGIN:DAYLIGHT
TZOFFSETFROM:-0800
TZOFFSETTO:-0700
TZNAME:PDT
DTSTART:20270314T100000
END:DAYLIGHT
BEGIN:STANDARD
TZOFFSETFROM:-0700
TZOFFSETTO:-0800
TZNAME:PST
DTSTART:20271107T090000
END:STANDARD
END:VTIMEZONE
BEGIN:VEVENT
DTSTART;TZID=America/Los_Angeles:20260522T180000
DTEND;TZID=America/Los_Angeles:20260522T190000
DTSTAMP:20260421T033155
CREATED:20260410T163258Z
LAST-MODIFIED:20260410T163258Z
UID:4103-1779472800-1779476400@crimsonfoxpublishing.com
SUMMARY:Elisa Keyston at Deepwood Museum & Gardens
DESCRIPTION:Elisa Keyston\, author of the Northwest Magic series\, will be reading from her novel Old Flames\, answering reader questions\, and signing books at Deepwood Museum & Gardens in Salem\, Oregon. Books will be available to purchase at the event.
URL:https://crimsonfoxpublishing.com/event/elisa-keyston-at-deepwood-museum-gardens/
LOCATION:Deepwood Museum & Gardens\, 1116 Mission St. SE\, Salem\, OR\, 97302\, United States
CATEGORIES:Panels & Speaking Engagements,Signings
END:VEVENT
END:VCALENDAR